Package: motifTestR Version: 1.5.3 Command: /Library/Frameworks/R.framework/Resources/bin/R CMD build --keep-empty-dirs --no-resave-data motifTestR StartedAt: 2025-10-09 18:04:46 -0400 (Thu, 09 Oct 2025) EndedAt: 2025-10-09 18:07:52 -0400 (Thu, 09 Oct 2025) EllapsedTime: 185.3 seconds RetCode: 0 Status: OK PackageFile: motifTestR_1.5.3.tar.gz PackageFileSize: 1.056 MiB