Package: motifTestR Version: 1.5.3 Command: rm -rf motifTestR.buildbin-libdir && mkdir motifTestR.buildbin-libdir && /Users/biocbuild/BBS/utils/build-universal.sh motifTestR_1.5.3.tar.gz /Library/Frameworks/R.framework/Resources/bin/R motifTestR.buildbin-libdir StartedAt: 2025-10-10 02:46:26 -0400 (Fri, 10 Oct 2025) EndedAt: 2025-10-10 02:46:51 -0400 (Fri, 10 Oct 2025) EllapsedTime: 25.2 seconds RetCode: 0 Status: OK PackageFile: motifTestR_1.5.3.tgz PackageFileSize: 1.159 MiB