Package: motifTestR Version: 1.5.3 Maintainer: Stevie Pederson MaintainerEmail: stephen.pederson.au at gmail.com git_url: https://git.bioconductor.org/packages/motifTestR git_branch: devel git_last_commit: fbf0e92 git_last_commit_date: 2025-09-17 10:57:54 -0400 (Wed, 17 Sep 2025)