Package: motifStack Version: 1.53.0 Command: /Library/Frameworks/R.framework/Resources/bin/R CMD check --install=check:motifStack.install-out.txt --library=/Library/Frameworks/R.framework/Resources/library --no-vignettes --timings motifStack_1.53.0.tar.gz StartedAt: 2025-10-22 20:51:38 -0400 (Wed, 22 Oct 2025) EndedAt: 2025-10-22 20:53:43 -0400 (Wed, 22 Oct 2025) EllapsedTime: 125.4 seconds RetCode: 0 Status: OK CheckDir: motifStack.Rcheck Warnings: 0