Package: mosbi Version: 1.17.0 Command: /home/biocbuild/bbs-3.23-bioc/R/bin/R CMD INSTALL mosbi StartedAt: 2025-11-20 15:12:03 -0500 (Thu, 20 Nov 2025) EndedAt: 2025-11-20 15:13:16 -0500 (Thu, 20 Nov 2025) EllapsedTime: 73.1 seconds RetCode: 0 Status: OK