Package: mosbi Version: 1.17.0 Command: /home/biocbuild/bbs-3.23-bioc/R/bin/R CMD build --keep-empty-dirs --no-resave-data mosbi StartedAt: 2025-11-20 18:47:44 -0500 (Thu, 20 Nov 2025) EndedAt: 2025-11-20 18:49:14 -0500 (Thu, 20 Nov 2025) EllapsedTime: 90.1 seconds RetCode: 0 Status: OK PackageFile: mosbi_1.17.0.tar.gz PackageFileSize: 2.473 MiB