Package: mosbi Version: 1.17.0 Command: /Library/Frameworks/R.framework/Resources/bin/R CMD INSTALL mosbi StartedAt: 2025-11-20 15:19:08 -0500 (Thu, 20 Nov 2025) EndedAt: 2025-11-20 15:20:20 -0500 (Thu, 20 Nov 2025) EllapsedTime: 71.7 seconds RetCode: 0 Status: OK