Package: mosbi Version: 1.17.0 Command: /Library/Frameworks/R.framework/Resources/bin/R CMD build --keep-empty-dirs --no-resave-data mosbi StartedAt: 2025-11-20 17:48:33 -0500 (Thu, 20 Nov 2025) EndedAt: 2025-11-20 17:50:49 -0500 (Thu, 20 Nov 2025) EllapsedTime: 135.8 seconds RetCode: 0 Status: OK PackageFile: mosbi_1.17.0.tar.gz PackageFileSize: 2.703 MiB