Package: mosbi Version: 1.17.0 Command: rm -rf mosbi.buildbin-libdir && mkdir mosbi.buildbin-libdir && /Users/biocbuild/BBS/utils/build-universal.sh mosbi_1.17.0.tar.gz /Library/Frameworks/R.framework/Resources/bin/R mosbi.buildbin-libdir StartedAt: 2025-11-21 01:44:14 -0500 (Fri, 21 Nov 2025) EndedAt: 2025-11-21 01:45:31 -0500 (Fri, 21 Nov 2025) EllapsedTime: 77.3 seconds RetCode: 0 Status: OK PackageFile: mosbi_1.17.0.tgz PackageFileSize: 3.102 MiB