Package: mosbi Version: 1.17.0 Command: /Library/Frameworks/R.framework/Resources/bin/R CMD build --keep-empty-dirs --no-resave-data mosbi StartedAt: 2025-11-20 17:02:27 -0500 (Thu, 20 Nov 2025) EndedAt: 2025-11-20 17:02:54 -0500 (Thu, 20 Nov 2025) EllapsedTime: 27.3 seconds RetCode: 0 Status: OK PackageFile: mosbi_1.17.0.tar.gz PackageFileSize: 2.619 MiB