Package: mosaics Version: 2.49.0 Command: /Library/Frameworks/R.framework/Resources/bin/R CMD INSTALL mosaics StartedAt: 2025-11-16 15:16:20 -0500 (Sun, 16 Nov 2025) EndedAt: 2025-11-16 15:16:37 -0500 (Sun, 16 Nov 2025) EllapsedTime: 17.3 seconds RetCode: 0 Status: OK