Package: mosaics Version: 2.49.0 Command: /Library/Frameworks/R.framework/Resources/bin/R CMD build --keep-empty-dirs --no-resave-data mosaics StartedAt: 2025-11-17 17:49:15 -0500 (Mon, 17 Nov 2025) EndedAt: 2025-11-17 17:50:13 -0500 (Mon, 17 Nov 2025) EllapsedTime: 57.5 seconds RetCode: 0 Status: OK PackageFile: mosaics_2.49.0.tar.gz PackageFileSize: 2.043 MiB