Package: monocle Version: 2.39.0 Command: /home/biocbuild/bbs-3.23-bioc/R/bin/R CMD INSTALL monocle StartedAt: 2025-11-20 15:13:29 -0500 (Thu, 20 Nov 2025) EndedAt: 2025-11-20 15:13:51 -0500 (Thu, 20 Nov 2025) EllapsedTime: 21.5 seconds RetCode: 0 Status: OK