Package: monocle Version: 2.37.0 Command: /Library/Frameworks/R.framework/Resources/bin/R CMD INSTALL monocle StartedAt: 2025-10-22 15:16:40 -0400 (Wed, 22 Oct 2025) EndedAt: 2025-10-22 15:17:10 -0400 (Wed, 22 Oct 2025) EllapsedTime: 29.8 seconds RetCode: 0 Status: OK