Package: monocle Version: 2.37.0 Command: rm -rf monocle.buildbin-libdir && mkdir monocle.buildbin-libdir && /Users/biocbuild/BBS/utils/build-universal.sh monocle_2.37.0.tar.gz /Library/Frameworks/R.framework/Resources/bin/R monocle.buildbin-libdir StartedAt: 2025-10-23 01:43:13 -0400 (Thu, 23 Oct 2025) EndedAt: 2025-10-23 01:43:48 -0400 (Thu, 23 Oct 2025) EllapsedTime: 34.7 seconds RetCode: 0 Status: OK PackageFile: monocle_2.37.0.tgz PackageFileSize: 1.445 MiB