Package: monocle Version: 2.37.0 Command: /Library/Frameworks/R.framework/Resources/bin/R CMD INSTALL monocle StartedAt: 2025-10-05 15:07:27 -0400 (Sun, 05 Oct 2025) EndedAt: 2025-10-05 15:07:36 -0400 (Sun, 05 Oct 2025) EllapsedTime: 8.5 seconds RetCode: 0 Status: OK