Package: monocle Version: 2.37.0 Command: rm -rf monocle.buildbin-libdir && mkdir monocle.buildbin-libdir && /Users/biocbuild/BBS/utils/build-universal.sh monocle_2.37.0.tar.gz /Library/Frameworks/R.framework/Resources/bin/R monocle.buildbin-libdir StartedAt: 2025-10-05 22:50:35 -0400 (Sun, 05 Oct 2025) EndedAt: 2025-10-05 22:50:44 -0400 (Sun, 05 Oct 2025) EllapsedTime: 9.2 seconds RetCode: 0 Status: OK PackageFile: monocle_2.37.0.tgz PackageFileSize: 1.448 MiB