Package: monocle Version: 2.39.0 Maintainer: Cole Trapnell MaintainerEmail: coletrap at uw.edu git_url: https://git.bioconductor.org/packages/monocle git_branch: devel git_last_commit: 1349852 git_last_commit_date: 2025-10-29 10:19:37 -0500 (Wed, 29 Oct 2025)