Package: monaLisa Version: 1.17.0 Command: /home/biocbuild/bbs-3.23-bioc/R/bin/R CMD INSTALL monaLisa StartedAt: 2025-11-20 15:51:09 -0500 (Thu, 20 Nov 2025) EndedAt: 2025-11-20 15:51:51 -0500 (Thu, 20 Nov 2025) EllapsedTime: 41.8 seconds RetCode: 0 Status: OK