Package: monaLisa Version: 1.17.0 Command: /home/biocbuild/bbs-3.23-bioc/R/bin/R CMD build --keep-empty-dirs --no-resave-data monaLisa StartedAt: 2025-11-20 18:46:21 -0500 (Thu, 20 Nov 2025) EndedAt: 2025-11-20 18:50:38 -0500 (Thu, 20 Nov 2025) EllapsedTime: 257.2 seconds RetCode: 0 Status: OK PackageFile: monaLisa_1.17.0.tar.gz PackageFileSize: 5.975 MiB