Package: monaLisa Version: 1.15.3 Command: rm -rf monaLisa.buildbin-libdir && mkdir monaLisa.buildbin-libdir && /Users/biocbuild/BBS/utils/build-universal.sh monaLisa_1.15.3.tar.gz /Library/Frameworks/R.framework/Resources/bin/R monaLisa.buildbin-libdir StartedAt: 2025-10-24 23:10:40 -0400 (Fri, 24 Oct 2025) EndedAt: 2025-10-24 23:10:59 -0400 (Fri, 24 Oct 2025) EllapsedTime: 19.4 seconds RetCode: 0 Status: OK PackageFile: monaLisa_1.15.3.tgz PackageFileSize: 7.087 MiB