Package: mobileRNA Version: 1.7.1 Command: /home/biocbuild/bbs-3.23-bioc/R/bin/R CMD INSTALL mobileRNA StartedAt: 2025-11-20 15:29:08 -0500 (Thu, 20 Nov 2025) EndedAt: 2025-11-20 15:29:47 -0500 (Thu, 20 Nov 2025) EllapsedTime: 39.4 seconds RetCode: 0 Status: OK