Package: mobileRNA Version: 1.7.1 Command: /home/biocbuild/bbs-3.23-bioc/R/bin/R CMD build --keep-empty-dirs --no-resave-data mobileRNA StartedAt: 2025-11-20 18:45:35 -0500 (Thu, 20 Nov 2025) EndedAt: 2025-11-20 18:47:15 -0500 (Thu, 20 Nov 2025) EllapsedTime: 100.1 seconds RetCode: 0 Status: OK PackageFile: mobileRNA_1.7.1.tar.gz PackageFileSize: 3.287 MiB