Package: mobileRNA Version: 1.7.1 Command: /Library/Frameworks/R.framework/Resources/bin/R CMD INSTALL mobileRNA StartedAt: 2025-11-21 15:34:12 -0500 (Fri, 21 Nov 2025) EndedAt: 2025-11-21 15:35:06 -0500 (Fri, 21 Nov 2025) EllapsedTime: 53.9 seconds RetCode: 0 Status: OK