Package: mobileRNA Version: 1.7.1 Command: /Library/Frameworks/R.framework/Resources/bin/R CMD build --keep-empty-dirs --no-resave-data mobileRNA StartedAt: 2025-11-21 17:46:06 -0500 (Fri, 21 Nov 2025) EndedAt: 2025-11-21 17:48:02 -0500 (Fri, 21 Nov 2025) EllapsedTime: 116.3 seconds RetCode: 0 Status: OK PackageFile: mobileRNA_1.7.1.tar.gz PackageFileSize: 3.239 MiB