Package: mobileRNA Version: 1.7.1 Command: rm -rf mobileRNA.buildbin-libdir && mkdir mobileRNA.buildbin-libdir && /Users/biocbuild/BBS/utils/build-universal.sh mobileRNA_1.7.1.tar.gz /Library/Frameworks/R.framework/Resources/bin/R mobileRNA.buildbin-libdir StartedAt: 2025-11-22 01:44:30 -0500 (Sat, 22 Nov 2025) EndedAt: 2025-11-22 01:45:25 -0500 (Sat, 22 Nov 2025) EllapsedTime: 55.4 seconds RetCode: 0 Status: OK PackageFile: mobileRNA_1.7.1.tgz PackageFileSize: 3.371 MiB