Package: mobileRNA Version: 1.5.1 Command: /Library/Frameworks/R.framework/Resources/bin/R CMD INSTALL mobileRNA StartedAt: 2025-10-12 15:16:59 -0400 (Sun, 12 Oct 2025) EndedAt: 2025-10-12 15:17:14 -0400 (Sun, 12 Oct 2025) EllapsedTime: 15.3 seconds RetCode: 0 Status: OK