Package: mobileRNA Version: 1.5.1 Command: /Library/Frameworks/R.framework/Resources/bin/R CMD build --keep-empty-dirs --no-resave-data mobileRNA StartedAt: 2025-10-12 17:01:13 -0400 (Sun, 12 Oct 2025) EndedAt: 2025-10-12 17:01:53 -0400 (Sun, 12 Oct 2025) EllapsedTime: 40.4 seconds RetCode: 0 Status: OK PackageFile: mobileRNA_1.5.1.tar.gz PackageFileSize: 3.221 MiB