Package: mobileRNA Version: 1.5.1 Command: rm -rf mobileRNA.buildbin-libdir && mkdir mobileRNA.buildbin-libdir && /Users/biocbuild/BBS/utils/build-universal.sh mobileRNA_1.5.1.tar.gz /Library/Frameworks/R.framework/Resources/bin/R mobileRNA.buildbin-libdir StartedAt: 2025-10-12 22:44:35 -0400 (Sun, 12 Oct 2025) EndedAt: 2025-10-12 22:44:52 -0400 (Sun, 12 Oct 2025) EllapsedTime: 17.3 seconds RetCode: 0 Status: OK PackageFile: mobileRNA_1.5.1.tgz PackageFileSize: 3.359 MiB