Package: moanin Version: 1.19.0 Command: /home/biocbuild/bbs-3.23-bioc/R/bin/R CMD INSTALL moanin StartedAt: 2025-11-20 15:40:00 -0500 (Thu, 20 Nov 2025) EndedAt: 2025-11-20 15:40:35 -0500 (Thu, 20 Nov 2025) EllapsedTime: 35.5 seconds RetCode: 0 Status: OK