Package: moanin Version: 1.19.0 Command: /home/biocbuild/bbs-3.23-bioc/R/bin/R CMD build --keep-empty-dirs --no-resave-data moanin StartedAt: 2025-11-20 18:45:18 -0500 (Thu, 20 Nov 2025) EndedAt: 2025-11-20 18:46:21 -0500 (Thu, 20 Nov 2025) EllapsedTime: 63.1 seconds RetCode: 0 Status: OK PackageFile: moanin_1.19.0.tar.gz PackageFileSize: 523.2 KiB