Package: moanin Version: 1.17.0 Command: /Library/Frameworks/R.framework/Resources/bin/R CMD INSTALL moanin StartedAt: 2025-10-23 15:24:23 -0400 (Thu, 23 Oct 2025) EndedAt: 2025-10-23 15:24:37 -0400 (Thu, 23 Oct 2025) EllapsedTime: 14.1 seconds RetCode: 0 Status: OK