Package: moanin Version: 1.17.0 Command: rm -rf moanin.buildbin-libdir && mkdir moanin.buildbin-libdir && /Users/biocbuild/BBS/utils/build-universal.sh moanin_1.17.0.tar.gz /Library/Frameworks/R.framework/Resources/bin/R moanin.buildbin-libdir StartedAt: 2025-10-23 23:17:20 -0400 (Thu, 23 Oct 2025) EndedAt: 2025-10-23 23:17:37 -0400 (Thu, 23 Oct 2025) EllapsedTime: 16.3 seconds RetCode: 0 Status: OK PackageFile: moanin_1.17.0.tgz PackageFileSize: 1006 KiB