Package: mnem Version: 1.25.0 Command: /Library/Frameworks/R.framework/Resources/bin/R CMD INSTALL mnem StartedAt: 2025-10-06 15:18:12 -0400 (Mon, 06 Oct 2025) EndedAt: 2025-10-06 15:18:54 -0400 (Mon, 06 Oct 2025) EllapsedTime: 42.5 seconds RetCode: 0 Status: OK