Package: mnem Version: 1.25.0 Command: /Library/Frameworks/R.framework/Resources/bin/R CMD build --keep-empty-dirs --no-resave-data mnem StartedAt: 2025-10-06 17:55:56 -0400 (Mon, 06 Oct 2025) EndedAt: 2025-10-06 17:57:52 -0400 (Mon, 06 Oct 2025) EllapsedTime: 116.2 seconds RetCode: 0 Status: OK PackageFile: mnem_1.25.0.tar.gz PackageFileSize: 4.798 MiB