Package: mixOmics Version: 6.35.0 Command: /home/biocbuild/bbs-3.23-bioc/R/bin/R CMD INSTALL mixOmics StartedAt: 2025-11-07 15:09:13 -0500 (Fri, 07 Nov 2025) EndedAt: 2025-11-07 15:09:57 -0500 (Fri, 07 Nov 2025) EllapsedTime: 43.9 seconds RetCode: 0 Status: OK