Package: mixOmics Version: 6.35.0 Command: /home/biocbuild/bbs-3.23-bioc/R/bin/R CMD build --keep-empty-dirs --no-resave-data mixOmics StartedAt: 2025-11-07 18:39:24 -0500 (Fri, 07 Nov 2025) EndedAt: 2025-11-07 18:50:42 -0500 (Fri, 07 Nov 2025) EllapsedTime: 677.9 seconds RetCode: 0 Status: OK PackageFile: mixOmics_6.35.0.tar.gz PackageFileSize: 18.77 MiB