Package: mixOmics Version: 6.33.0 Command: /Library/Frameworks/R.framework/Resources/bin/R CMD INSTALL mixOmics StartedAt: 2025-10-19 15:12:38 -0400 (Sun, 19 Oct 2025) EndedAt: 2025-10-19 15:13:09 -0400 (Sun, 19 Oct 2025) EllapsedTime: 31.4 seconds RetCode: 0 Status: OK