Package: mixOmics Version: 6.33.0 Command: /Library/Frameworks/R.framework/Resources/bin/R CMD INSTALL mixOmics StartedAt: 2025-10-05 15:05:18 -0400 (Sun, 05 Oct 2025) EndedAt: 2025-10-05 15:05:30 -0400 (Sun, 05 Oct 2025) EllapsedTime: 12.3 seconds RetCode: 0 Status: OK