Package: mixOmics Version: 6.33.0 Command: /Library/Frameworks/R.framework/Resources/bin/R CMD build --keep-empty-dirs --no-resave-data mixOmics StartedAt: 2025-10-05 17:05:42 -0400 (Sun, 05 Oct 2025) EndedAt: 2025-10-05 17:10:18 -0400 (Sun, 05 Oct 2025) EllapsedTime: 276.0 seconds RetCode: 0 Status: OK PackageFile: mixOmics_6.33.0.tar.gz PackageFileSize: 18.91 MiB