Package: mixOmics Version: 6.33.0 Command: rm -rf mixOmics.buildbin-libdir && mkdir mixOmics.buildbin-libdir && /Users/biocbuild/BBS/utils/build-universal.sh mixOmics_6.33.0.tar.gz /Library/Frameworks/R.framework/Resources/bin/R mixOmics.buildbin-libdir StartedAt: 2025-10-05 22:50:18 -0400 (Sun, 05 Oct 2025) EndedAt: 2025-10-05 22:50:33 -0400 (Sun, 05 Oct 2025) EllapsedTime: 15.3 seconds RetCode: 0 Status: OK PackageFile: mixOmics_6.33.0.tgz PackageFileSize: 18.47 MiB