Package: mixOmics Version: 6.35.0 Maintainer: Eva Hamrud MaintainerEmail: mixomicsdeveloper at gmail.com git_url: https://git.bioconductor.org/packages/mixOmics git_branch: devel git_last_commit: 6f91947 git_last_commit_date: 2025-10-29 10:48:48 -0400 (Wed, 29 Oct 2025)