Package: mitology Version: 1.3.0 Command: /home/biocbuild/bbs-3.23-bioc/R/bin/R CMD INSTALL mitology StartedAt: 2025-11-20 15:49:35 -0500 (Thu, 20 Nov 2025) EndedAt: 2025-11-20 15:50:02 -0500 (Thu, 20 Nov 2025) EllapsedTime: 27.3 seconds RetCode: 0 Status: OK