Package: mitology Version: 1.3.0 Command: /home/biocbuild/bbs-3.23-bioc/R/bin/R CMD build --keep-empty-dirs --no-resave-data mitology StartedAt: 2025-11-20 18:43:23 -0500 (Thu, 20 Nov 2025) EndedAt: 2025-11-20 18:47:15 -0500 (Thu, 20 Nov 2025) EllapsedTime: 232.2 seconds RetCode: 0 Status: OK PackageFile: mitology_1.3.0.tar.gz PackageFileSize: 4.062 MiB