Package: mitology Version: 1.3.0 Command: /Library/Frameworks/R.framework/Resources/bin/R CMD INSTALL mitology StartedAt: 2025-11-20 15:52:12 -0500 (Thu, 20 Nov 2025) EndedAt: 2025-11-20 15:52:49 -0500 (Thu, 20 Nov 2025) EllapsedTime: 37.4 seconds RetCode: 0 Status: OK