Package: mitology Version: 1.3.0 Command: /Library/Frameworks/R.framework/Resources/bin/R CMD build --keep-empty-dirs --no-resave-data mitology StartedAt: 2025-11-20 17:45:55 -0500 (Thu, 20 Nov 2025) EndedAt: 2025-11-20 17:51:39 -0500 (Thu, 20 Nov 2025) EllapsedTime: 344.7 seconds RetCode: 0 Status: OK PackageFile: mitology_1.3.0.tar.gz PackageFileSize: 4.01 MiB