Package: mitology Version: 1.3.0 Command: rm -rf mitology.buildbin-libdir && mkdir mitology.buildbin-libdir && /Users/biocbuild/BBS/utils/build-universal.sh mitology_1.3.0.tar.gz /Library/Frameworks/R.framework/Resources/bin/R mitology.buildbin-libdir StartedAt: 2025-11-21 01:43:50 -0500 (Fri, 21 Nov 2025) EndedAt: 2025-11-21 01:44:30 -0500 (Fri, 21 Nov 2025) EllapsedTime: 40.2 seconds RetCode: 0 Status: OK PackageFile: mitology_1.3.0.tgz PackageFileSize: 3.343 MiB