Package: mitology Version: 1.1.0 Command: /Library/Frameworks/R.framework/Resources/bin/R CMD INSTALL mitology StartedAt: 2025-10-15 15:10:52 -0400 (Wed, 15 Oct 2025) EndedAt: 2025-10-15 15:10:59 -0400 (Wed, 15 Oct 2025) EllapsedTime: 7.6 seconds RetCode: 0 Status: OK