Package: mitology Version: 1.1.0 Command: /Library/Frameworks/R.framework/Resources/bin/R CMD build --keep-empty-dirs --no-resave-data mitology StartedAt: 2025-10-15 17:05:32 -0400 (Wed, 15 Oct 2025) EndedAt: 2025-10-15 17:05:47 -0400 (Wed, 15 Oct 2025) EllapsedTime: 15.2 seconds RetCode: 1 Status: ERROR PackageFile: None PackageFileSize: NA