Package: mitoClone2 Version: 1.17.0 Command: /home/biocbuild/bbs-3.23-bioc/R/bin/R CMD INSTALL mitoClone2 StartedAt: 2025-11-19 16:00:11 -0500 (Wed, 19 Nov 2025) EndedAt: 2025-11-19 16:01:02 -0500 (Wed, 19 Nov 2025) EllapsedTime: 51.2 seconds RetCode: 0 Status: OK